BEGIN:VCALENDAR
VERSION:2.0
PRODID:-//gbskoeln.de - ECPv6.14.0//NONSGML v1.0//EN
CALSCALE:GREGORIAN
METHOD:PUBLISH
X-ORIGINAL-URL:https://gbskoeln.de
X-WR-CALDESC:Veranstaltungen für gbskoeln.de
REFRESH-INTERVAL;VALUE=DURATION:PT1H
X-Robots-Tag:noindex
X-PUBLISHED-TTL:PT1H
BEGIN:VTIMEZONE
TZID:Europe/Berlin
BEGIN:DAYLIGHT
TZOFFSETFROM:+0100
TZOFFSETTO:+0200
TZNAME:CEST
DTSTART:20240331T010000
END:DAYLIGHT
BEGIN:STANDARD
TZOFFSETFROM:+0200
TZOFFSETTO:+0100
TZNAME:CET
DTSTART:20241027T010000
END:STANDARD
END:VTIMEZONE
BEGIN:VEVENT
DTSTART;TZID=Europe/Berlin:20240402T190000
DTEND;TZID=Europe/Berlin:20240402T210000
DTSTAMP:20260420T202324
CREATED:20240222T140040Z
LAST-MODIFIED:20240226T213538Z
UID:1310-1712084400-1712091600@gbskoeln.de
SUMMARY:Humanistisches Forum Köln - Vortrag: Der Hausherr gibt es\, der Hausherr nimmt es - Profitgier und Verdrängung im christlichen Immobiliengeschäft
DESCRIPTION:Christliches Immobiliengeschäft: Profitgier und Verdrängung. Wie die westdeutschen Bistümer Sozialsiedlungen ausbeuten.\nDass die beiden großen Kirchen zu den größten privaten Grundeigentümerinnen in Deutschland zählen – vielleicht sind sie sogar die größten –\, ist relativ bekannt. Das verweist auf die feudale Vergangenheit und bezieht sich vor allem auf Ländereien\, also einschließlich Äckern und Wäldern. Es gibt aber einen kirchlichen Immobilienbereich\, zu dem kaum etwas bekannt ist: die Wohnungsvermietung. Das liegt wohl vor allem an einem Mangel an journalistischer Recherche. Zur Vermietungspraxis kirchlicher und kirchennaher Institutionen gibt es offenbar auf überregionaler Ebene keine Veröffentlichungen\, zumindest nicht aus der jüngeren Vergangenheit. In Büchern zu Kirchenfinanzen finden sich zwar Ausführungen zum einen oder anderen kirchlichen Wohnungsunternehmen\, aber keine konkreten Konflikte mit der Mieterschaft.\nDer Journalist Ralf Hutter hat die erste größere und überregionale Recherche zu unsozialem Verhalten diverser kirchlicher und quasi-kirchlicher Immobilienakteure gegenüber der Mieterschaft vorgelegt. Am meisten hat er sich mit der Aachener Siedlungs- und Wohnungsgesellschaft beschäftigt\, dem in Köln ansässigen größten Wohnungsunternehmen der katholischen Kirche. Dieses Unternehmen hat seinen sechs westdeutschen Bistümern – darunter zwei der reichsten der Welt – parallel zum Anwachsen der deutschen Wohnungsmisere in den letzten 15 Jahren immer mehr Geld ausgeschüttet. Erwirtschaftet werden die Gewinne unter anderem mit ehemaligen Sozialsiedlungen in Köln und Düsseldorf\, wo die Aachener oft die Instandhaltung vernachlässigt und dadurch bisweilen Menschen in existenzielle Nöte bringt. Hier zeigt sich auch ein erklärtermaßen zukünftiger Schwerpunkt der Firmentätigkeit\, der die Lage weiter verschärft: die energetische Modernisierung der alten Häuser\, die die Haushalte bezahlen müssen\, auch wenn die dadurch erreichten Einsparungen die Kosten bei weitem nicht aufwiegen. In Düsseldorf sorgte das 2021 für Proteste in der Siedlung Kissinger Straße im Stadtteil Eller. Die Baumaßnahmen gingen dort aber noch bis zuletzt weiter und beeinträchtigten viele Menschen. Auch über solche aktuellen Konflikte soll in diesem Humanistischen Salon gesprochen werden. \nRalf Hutter ist studierter Soziologe. Er arbeitet in Berlin als Freier Journalist fürs Öffentlich-Rechtliche Radio sowie für diverse Zeitschriften\, Zeitungen und Online-Medien. Das Buch zum Vortrag ist 2023 im Alibri Verlag erschienen und kann hier bestellt werden. \nVeranstaltungsort: Alte Feuerwache\, Melchiorstr. 3 – Großes Forum\n \nDer Eintritt ist kostenfrei. \nErreichbarkeit: \nVom Eingang Melchiorstraße kommend durch den Innenhof auf der rechten Seite liegt die ehemalige „Branddirektion“\, darin befindet sich der Clubraum auf der Hochparterre. \nAnfahrt mit dem Auto:\nLeider sind in unmittelbaren Nachbarschaft der Alten Feuerwache Parkplätze sehr rar und Parkscheingebühren recht hoch. Die größte Chance\, einen Parkplatz sogar kostenlos zu finden\, ist am Theodor-Heuss-Ring vom Rhein (Bastei) kommend in Richtung Ebertplatz (+ Google Karte). Die entgegengesetzte Fahrtrichtung ist für Anwohner mit Parkausweis reserviert. Der Fußweg zur Alten Feuerwache beträgt je nach Parkplatzlage 5 bis 10 Minuten. \nAnfahrt mit ÖPNV:\nHaltestelle Ebertplatz – U-Bahn und Bus: Linien 12\, 15\, 16\, 18\, 127\, 140\nHaltestelle Hansaring – S-Bahn und Regionalbahn: Linien S6\, S11\, S12\, RB25\nDer Fußweg zur Alten Feuerwache beträgt 5 Minuten.
URL:https://gbskoeln.de/termin/vortrag-der-hausherr-gibt-es-der-hausherr-nimmt-es-profitgier-und-verdraengung-im-christlichen-immobiliengeschaeft/
LOCATION:Alte Feuerwache – Großes Forum\, Melchiorstraße 3\, Köln\, 50670
ORGANIZER;CN="gbs K%C3%B6ln e.V.":MAILTO:info@gbskoeln.de
END:VEVENT
BEGIN:VEVENT
DTSTART;TZID=Europe/Berlin:20240405T190000
DTEND;TZID=Europe/Berlin:20240405T220000
DTSTAMP:20260420T202324
CREATED:20240222T134436Z
LAST-MODIFIED:20240410T104535Z
UID:1304-1712343600-1712354400@gbskoeln.de
SUMMARY:Organisationstreffen 4/2024
DESCRIPTION:Die Regionalgruppe trifft sich regelmäßig einmal im Monat zu einem Organisationstreffen. Auf der Tagesordnung stehen vor allem die Besprechungen von Veranstaltungen und Aktionen\, aber auch die Nachlese vergangener Veranstaltungen oder Diskussionen zu aktuellen Entwicklungen. Nach dem offiziellen Teil ergibt sich beim anschließenden gemeinsamen Umtrunk Gelegenheit zum persönlichen Austausch. Interessierte sind herzlich willkommen. Die Teilnahme ist kostenlos. \nDie genaue Adresse:\n50667 Köln\, Gürzenichstr. 21 a-c / Ecke Quatermarkt (hinterer Eingang\, nur vom Quatermarkt aus zu erreichen (+ Google). Das Treffen findet statt im Kölner Initiativenhaus für Menschenrechte und Demokratie e.V.\, 3. Obergeschoss (Aufzug vorhanden). Bitte klingeln! \nAnfahrt mit dem Auto:\nLeider stehen im Nahbereich keine kostenlose Parkplätze zur Verfügung. Es bietet sich an das Parkhaus Am Gürzenich (+ Google)zu benutzen. Der Fußweg beträgt nur 1 Minute. \nAnfahrt mit ÖPNV:\nHaltestelle Heumarkt (3 Minuten Fußweg) (+ Google)\nU-Bahn und Bus: 1\, 5\, 7\, 9\, 132\, 133\, 260\, 978\, N26\, SB25\nHaltestelle Dom-Hauptbahnhof (10 Minuten Fußweg) (+ Google)\nU-Bahn und Bus: 5\, 16\, 18\, 172\nS-Bahn: S6\, S11\, S12\, S19\nRegionalbahn: RB24\, RB25\, RB26\, RB27\, RB38\, RB48\nRegionalexpress: RE1(RRX)\, RE5(RRX)\, RE6(RRX)\,\nRE7\, RE8\, RE9\, RE12\, RE22 und und Fernzüge
URL:https://gbskoeln.de/termin/organisationstreeffen-4-2024/
CATEGORIES:gbs Köln,OT
ORGANIZER;CN="gbs K%C3%B6ln e.V.":MAILTO:info@gbskoeln.de
END:VEVENT
END:VCALENDAR