BEGIN:VCALENDAR
VERSION:2.0
PRODID:-//gbskoeln.de - ECPv6.14.0//NONSGML v1.0//EN
CALSCALE:GREGORIAN
METHOD:PUBLISH
X-ORIGINAL-URL:https://gbskoeln.de
X-WR-CALDESC:Veranstaltungen für gbskoeln.de
REFRESH-INTERVAL;VALUE=DURATION:PT1H
X-Robots-Tag:noindex
X-PUBLISHED-TTL:PT1H
BEGIN:VTIMEZONE
TZID:Europe/Berlin
BEGIN:DAYLIGHT
TZOFFSETFROM:+0100
TZOFFSETTO:+0200
TZNAME:CEST
DTSTART:20240331T010000
END:DAYLIGHT
BEGIN:STANDARD
TZOFFSETFROM:+0200
TZOFFSETTO:+0100
TZNAME:CET
DTSTART:20241027T010000
END:STANDARD
END:VTIMEZONE
BEGIN:VEVENT
DTSTART;TZID=Europe/Berlin:20240903T190000
DTEND;TZID=Europe/Berlin:20240903T210000
DTSTAMP:20260420T115110
CREATED:20240815T074015Z
LAST-MODIFIED:20240815T074723Z
UID:1417-1725390000-1725397200@gbskoeln.de
SUMMARY:Vortrag: Das KLERIKALE KARTELL
DESCRIPTION:Bestsellerautor Helmut Ortner liest aus seinem neuen Buch \nDAS KLERIKALE KARTELL \nWeitere Details bitte der linken Seite entnehmen. \nVeranstaltungsort: Alte Feuerwache\, Melchiorstr. 3 – Großes Forum\n \nDer Eintritt ist kostenfrei. \nErreichbarkeit: \nVom Eingang Melchiorstraße kommend durch den Innenhof auf der rechten Seite liegt die ehemalige „Branddirektion“\, darin befindet sich der Clubraum auf der Hochparterre. \nAnfahrt mit dem Auto:\nLeider sind in unmittelbaren Nachbarschaft der Alten Feuerwache Parkplätze sehr rar und Parkscheingebühren recht hoch. Die größte Chance\, einen Parkplatz sogar kostenlos zu finden\, ist am Theodor-Heuss-Ring vom Rhein (Bastei) kommend in Richtung Ebertplatz (+ Google Karte). Die entgegengesetzte Fahrtrichtung ist für Anwohner mit Parkausweis reserviert. Der Fußweg zur Alten Feuerwache beträgt je nach Parkplatzlage 5 bis 10 Minuten. \nAnfahrt mit ÖPNV:\nHaltestelle Ebertplatz – U-Bahn und Bus: Linien 12\, 15\, 16\, 18\, 127\, 140\nHaltestelle Hansaring – S-Bahn und Regionalbahn: Linien S6\, S11\, S12\, RB25\nDer Fußweg zur Alten Feuerwache beträgt 5 Minuten.
URL:https://gbskoeln.de/termin/vortrag-das-klerikale-kartell/
LOCATION:Alte Feuerwache – Großes Forum\, Melchiorstraße 3\, Köln\, 50670
ORGANIZER;CN="gbs K%C3%B6ln e.V.":MAILTO:info@gbskoeln.de
END:VEVENT
BEGIN:VEVENT
DTSTART;TZID=Europe/Berlin:20240907T130000
DTEND;TZID=Europe/Berlin:20240907T190000
DTSTAMP:20260420T115110
CREATED:20240728T213519Z
LAST-MODIFIED:20240816T074335Z
UID:1400-1725714000-1725735600@gbskoeln.de
SUMMARY:Tag des guten Lebens und Kalkfest
DESCRIPTION:Am „Tag des guten Lebens“ befindet sich der gbs-Stand an der Kalker Hauptstraße 112. Das ist vor dem Kaufhaus Kaufland etwa 100m von der U-Bahnhaltestelle Kalk-Post Ecke Trimbornstraße entfernt. (+ Google) \nAnfahrt mit ÖPNV: \nU-Bahn und Bus: Haltestelle Kalk Post Ausgang Trimbornstraße\nAnfahrt mit der\nStadtbahn\, Haltestelle Kalk Post: Linien 1\, 9 und Bus 159 und 193.\nS-Bahn\, Haltestelle Trimbornstraße: S12\, S19\, RB25
URL:https://gbskoeln.de/termin/tag-des-guten-lebens-2/
ORGANIZER;CN="gbs K%C3%B6ln e.V.":MAILTO:info@gbskoeln.de
END:VEVENT
BEGIN:VEVENT
DTSTART;TZID=Europe/Berlin:20240913T190000
DTEND;TZID=Europe/Berlin:20240913T220000
DTSTAMP:20260420T115110
CREATED:20240728T204043Z
LAST-MODIFIED:20240815T080750Z
UID:1398-1726254000-1726264800@gbskoeln.de
SUMMARY:Organisationstreffen 9/24
DESCRIPTION:Das Treffen wird ausnahmsweise vom 6. auf den 13. September verschoben.\n \n\nDie Regionalgruppe trifft sich regelmäßig einmal im Monat zu einem Organisationstreffen. Auf der Tagesordnung stehen vor allem die Besprechungen von Veranstaltungen und Aktionen\, aber auch die Nachlese vergangener Veranstaltungen oder Diskussionen zu aktuellen Entwicklungen. Nach dem offiziellen Teil ergibt sich beim anschließenden gemeinsamen Umtrunk Gelegenheit zum persönlichen Austausch. Interessierte sind herzlich willkommen. Die Teilnahme ist kostenlos. \nDie genaue Adresse:\n50667 Köln\, Gürzenichstr. 21 a-c / Ecke Quatermarkt (hinterer Eingang\, nur vom Quatermarkt aus zu erreichen (+ Google). Das Treffen findet statt im Kölner Initiativenhaus für Menschenrechte und Demokratie e.V.\, 3. Obergeschoss (Aufzug vorhanden). Bitte klingeln! \nAnfahrt mit dem Auto:\nLeider stehen im Nahbereich keine kostenlose Parkplätze zur Verfügung. Es bietet sich an das Parkhaus Am Gürzenich (+ Google)zu benutzen. Der Fußweg beträgt nur 1 Minute. \nAnfahrt mit ÖPNV:\nHaltestelle Heumarkt (3 Minuten Fußweg) (+ Google)\nU-Bahn und Bus: 1\, 5\, 7\, 9\, 132\, 133\, 260\, 978\, N26\, SB25\nHaltestelle Dom-Hauptbahnhof (10 Minuten Fußweg) (+ Google)\nU-Bahn und Bus: 5\, 16\, 18\, 172\nS-Bahn: S6\, S11\, S12\, S19\nRegionalbahn: RB24\, RB25\, RB26\, RB27\, RB38\, RB48\nRegionalexpress: RE1(RRX)\, RE5(RRX)\, RE6(RRX)\,\nRE7\, RE8\, RE9\, RE12\, RE22 und und Fernzüge
URL:https://gbskoeln.de/termin/organisationstreffen-9-24/
LOCATION:Initiativenhaus Gürzenichstraße / Ecke Quatermarkt – hinterer Eingang\, Gürzenichstr. 21 a-c\, Köln-Innenstadt\, 50667
ORGANIZER;CN="gbs K%C3%B6ln e.V.":MAILTO:info@gbskoeln.de
END:VEVENT
END:VCALENDAR