BEGIN:VCALENDAR
VERSION:2.0
PRODID:-//gbskoeln.de - ECPv6.14.0//NONSGML v1.0//EN
CALSCALE:GREGORIAN
METHOD:PUBLISH
X-WR-CALNAME:gbskoeln.de
X-ORIGINAL-URL:https://gbskoeln.de
X-WR-CALDESC:Veranstaltungen für gbskoeln.de
REFRESH-INTERVAL;VALUE=DURATION:PT1H
X-Robots-Tag:noindex
X-PUBLISHED-TTL:PT1H
BEGIN:VTIMEZONE
TZID:Europe/Berlin
BEGIN:DAYLIGHT
TZOFFSETFROM:+0100
TZOFFSETTO:+0200
TZNAME:CEST
DTSTART:20230326T010000
END:DAYLIGHT
BEGIN:STANDARD
TZOFFSETFROM:+0200
TZOFFSETTO:+0100
TZNAME:CET
DTSTART:20231029T010000
END:STANDARD
END:VTIMEZONE
BEGIN:VEVENT
DTSTART;TZID=Europe/Berlin:20230917T100000
DTEND;TZID=Europe/Berlin:20230917T180000
DTSTAMP:20260421T172433
CREATED:20230826T141514Z
LAST-MODIFIED:20230828T080814Z
UID:1143-1694944800-1694973600@gbskoeln.de
SUMMARY:Tag des guten Lebens
DESCRIPTION:Am „Tag des guten Lebens“ befindet sich der gbs-Stand an der Neusser Straße 265. Das ist direkt an der U-Bahn-Rolltreppe Neusser Straße / Ecke Viersener Straße. (+ Google) \nAnfahrt mit ÖPNV: \nU-Bahn und Bus: Haltestelle Florastraße.\nAnfahrt mit der Stadtbahn Linien 12\, 15 und Bus 147\,\nBitte den Ausgang Viersener Straße benutzen.
URL:https://gbskoeln.de/termin/tag-des-guten-lebens/
LOCATION:50733 Köln\, Neusser Str. 265\, Neusser Str. 265\, Köln-Nippes\, 50733
CATEGORIES:gbs Köln,Tag des guten Lebens
ORGANIZER;CN="gbs K%C3%B6ln e.V.":MAILTO:info@gbskoeln.de
END:VEVENT
END:VCALENDAR